BEGIN:VCALENDAR
VERSION:2.0
PRODID:-//Pokój Ciała - ECPv6.15.20//NONSGML v1.0//EN
CALSCALE:GREGORIAN
METHOD:PUBLISH
X-ORIGINAL-URL:https://pokojciala.pl
X-WR-CALDESC:Wydarzenia dla Pokój Ciała
REFRESH-INTERVAL;VALUE=DURATION:PT1H
X-Robots-Tag:noindex
X-PUBLISHED-TTL:PT1H
BEGIN:VTIMEZONE
TZID:Europe/Warsaw
BEGIN:DAYLIGHT
TZOFFSETFROM:+0100
TZOFFSETTO:+0200
TZNAME:CEST
DTSTART:20210328T010000
END:DAYLIGHT
BEGIN:STANDARD
TZOFFSETFROM:+0200
TZOFFSETTO:+0100
TZNAME:CET
DTSTART:20211031T010000
END:STANDARD
BEGIN:DAYLIGHT
TZOFFSETFROM:+0100
TZOFFSETTO:+0200
TZNAME:CEST
DTSTART:20220327T010000
END:DAYLIGHT
BEGIN:STANDARD
TZOFFSETFROM:+0200
TZOFFSETTO:+0100
TZNAME:CET
DTSTART:20221030T010000
END:STANDARD
BEGIN:DAYLIGHT
TZOFFSETFROM:+0100
TZOFFSETTO:+0200
TZNAME:CEST
DTSTART:20230326T010000
END:DAYLIGHT
BEGIN:STANDARD
TZOFFSETFROM:+0200
TZOFFSETTO:+0100
TZNAME:CET
DTSTART:20231029T010000
END:STANDARD
END:VTIMEZONE
BEGIN:VEVENT
DTSTART;VALUE=DATE:20220325
DTEND;VALUE=DATE:20220327
DTSTAMP:20260421T145145
CREATED:20220324T220000Z
LAST-MODIFIED:20220304T204519Z
UID:1939-1648166400-1648339199@pokojciala.pl
SUMMARY:(równo)noc w wibracji mis i gongów
DESCRIPTION:Wytchnieniowa (równo)noc w dźwięku mis i gongów himalajskich\nNiemal 10-godzinne granie nocne w okresie przejścia pór roku będzie stanowić sześć sesji.\nW cudownie ukrytej kameralnej przestrzeni New Moon yoga studio kilkukrotnie zanurzymy się w organicznym dźwięku dzwonków\, mis i gongów.\nUderzenia w instrumenty będą spokojne i rzadkie\, by uzyskać głębokie rozluźnienie – uwolnienie pobudzonych emocji\, oczyszczenie myśli\, rozpuszczenie napięć w ciele.\nBrzmienie oddziałuje bezpośrednio\, powodując odczucie całościowego rezonansu w każdej komórce naszego ciała\, dając wrażenie zanurzenia w przestrzeni dźwiękowej\, i pozwala nam oczyścić się emocjonalnie i mentalnie\, zsynchronizować przepływ\, ponownie skontaktować się z intuicją\, otworzyć kreatywność i jasność postrzegania. Gdy podczas sesji komórki ciała pozostają pod działaniem rezonansu z organicznymi harmonijnymi wibracjami instrumentów\, możemy doświadczyć czystego bycia w tu i teraz\, gdy wszystko może się po prostu dziać.\nUsłyszymy dźwięki zestawu dzwonków\, sześciu relaksacyjnych mis himalajskich i pięciu terapeutycznych oraz trzech gongów\, dobranych tak\, aby mogły harmonizować działanie wszystkich głównych ośrodków energetycznych ciała.\nSesja nocna jest przeznaczona dla każdego\, kto odczuwa potrzebę głębokiego odprężenia i regeneracji – poza przypadkami niedociśnienia\, ciąży\, zakrzepicy\, wszczepionego rozrusznika serca\, psychozy.\nWarto zadbać o otwarty łagodny nastrój\, dobrze nawodnić organizm\, aby ułatwić falom dźwiękowym i wibracjom przepływ przez tkanki.\nJakie są rezultaty?\nSesja pozwala doświadczyć:\n— na poziomie fizycznym:\n– poprawy zdrowia i nastroju\, jakości snu i metabolizmu\n– uruchomienia procesów regeneracyjnych w tkankach\n– detoksykacji organizmu\n– udrożnienia obiegu energetycznego\n– regulacji pracy narządów wewnętrznych\n— na poziomie mentalnym:\n– uwolnienia od stresu\, napięć i problemów\n– oczyszczenia emocji\n— na poziomie duchowym:\n– niezwykłych wrażeń muzycznych\n– podniesienia samoświadomości\nWarto wziąć matę\, koce\, poduszki\, przedmioty mocy\, notatnik z ołówkiem.\nDobrze mieć wygodne ubranie odpowiednio dobrane do temperatury otoczenia.\npiątek do sobota\, 25 do 26 marca\, 22.30 do 8.00\nmiejsce: New Moon yoga studio\, ul. Hoża 51\nzgłoszenia do 15 marca: 691440903 przyjmij@pokojciala.pl\nudział: 170 zł (przestrzeń do 16 Osób) (rezerwacja miejsca: 80 zł)
URL:https://pokojciala.pl/gram/rownonoc-w-wibracji-mis-i-gongow/
LOCATION:New MOON yoga studio\, Hoża 51\, Warszawa\, Poland
CATEGORIES:cykliczne,piątek,przestrzeń jogi,sobota,Warszawa,weekend,wieczór
ORGANIZER;CN="Pok%C3%B3j Cia%C5%82a Asia Romaniuk":MAILTO:poznaj@pokojciala.pl
END:VEVENT
END:VCALENDAR