BEGIN:VCALENDAR
VERSION:2.0
PRODID:-//Pokój Ciała - ECPv6.15.20//NONSGML v1.0//EN
CALSCALE:GREGORIAN
METHOD:PUBLISH
X-WR-CALNAME:Pokój Ciała
X-ORIGINAL-URL:https://pokojciala.pl
X-WR-CALDESC:Wydarzenia dla Pokój Ciała
REFRESH-INTERVAL;VALUE=DURATION:PT1H
X-Robots-Tag:noindex
X-PUBLISHED-TTL:PT1H
BEGIN:VTIMEZONE
TZID:Europe/Warsaw
BEGIN:DAYLIGHT
TZOFFSETFROM:+0100
TZOFFSETTO:+0200
TZNAME:CEST
DTSTART:20200329T010000
END:DAYLIGHT
BEGIN:STANDARD
TZOFFSETFROM:+0200
TZOFFSETTO:+0100
TZNAME:CET
DTSTART:20201025T010000
END:STANDARD
BEGIN:DAYLIGHT
TZOFFSETFROM:+0100
TZOFFSETTO:+0200
TZNAME:CEST
DTSTART:20210328T010000
END:DAYLIGHT
BEGIN:STANDARD
TZOFFSETFROM:+0200
TZOFFSETTO:+0100
TZNAME:CET
DTSTART:20211031T010000
END:STANDARD
BEGIN:DAYLIGHT
TZOFFSETFROM:+0100
TZOFFSETTO:+0200
TZNAME:CEST
DTSTART:20220327T010000
END:DAYLIGHT
BEGIN:STANDARD
TZOFFSETFROM:+0200
TZOFFSETTO:+0100
TZNAME:CET
DTSTART:20221030T010000
END:STANDARD
END:VTIMEZONE
BEGIN:VEVENT
DTSTART;TZID=Europe/Warsaw:20210829T200000
DTEND;TZID=Europe/Warsaw:20210829T213000
DTSTAMP:20260419T154842
CREATED:20210829T063000Z
LAST-MODIFIED:20210818T144417Z
UID:1393-1630267200-1630272600@pokojciala.pl
SUMMARY:weekendowe wibracje w ogrodzie
DESCRIPTION:W niedzielny wieczór podczas sesji w klimatycznym namiocie w pięknym ogrodzie na skraju Warszawy zanurzymy się w organicznym dźwięku mis i gongów\, by odkrywać jego złożoność i szerokość zakresów\, pozwalając sobie na pojawianie się obrazów\, przepływ wizji\, kontakt z intuicją\, zapadanie w regenerujący sen. Uderzenia w instrumenty będą spokojne i rzadkie\, by uzyskać głębokie rozluźnienie – uwolnienie pobudzonych emocji\, oczyszczenie myśli\, rozpuszczenie napięć w ciele. \nBrzmienie oddziałuje bezpośrednio\, powodując odczucie całościowego rezonansu w każdej komórce naszego ciała\, dając wrażenie zanurzenia w przestrzeni dźwiękowej\, i pozwala nam oczyścić się emocjonalnie i mentalnie\, zsynchronizować przepływ\, ponownie skontaktować się z intuicją\, otworzyć kreatywność i jasność postrzegania. Gdy podczas sesji komórki ciała pozostają pod działaniem rezonansu z organicznymi harmonijnymi wibracjami instrumentów\, możemy doświadczyć czystego bycia w tu i teraz\, gdy wszystko może się po prostu dziać. \n  \nUsłyszymy dźwięki sześciu relaksacyjnych mis himalajskich i pięciu terapeutycznych oraz dwóch gongów\, tam-tama i fena\, dobranych tak\, aby mogły harmonizować działanie wszystkich głównych ośrodków energetycznych ciała. \nSpotkanie zakończy możliwość kontynuowania zanurzenia się w sobie\, wglądu\, procesu oczyszczania i kontaktu z intuicją – w blasku ogniska. \nSesja jest przeznaczona dla każdego\, kto odczuwa potrzebę głębokiego odprężenia i regeneracji – bez względu na stan zdrowia\, kondycję fizyczną czy zaawansowanie; nie ma przeciwwskazań – poza sugestią zachowania ostrożności w przypadku niedociśnienia\, ciąży\, zakrzepicy\, wszczepionego rozrusznika serca\, psychozy. \nWarto zadbać o otwarty łagodny nastrój\, dobrze nawodnić organizm\, aby ułatwić falom dźwiękowym i wibracjom przepływ przez tkanki. \nDobrze mieć wygodne ubranie odpowiednio dobrane do temperatury otoczenia. \nWarto wziąć matę\, koc. \nWarto potwierdzić udział pod numerem telefonu 691 440 903 lub adresem e-mail przyjmij@pokojciala.pl \nZ wdzięcznością docenimy wymianę\, stąd sugestia zasilenia miseczki zgodnie z możliwościami i w otwartości. \nul. Wierzbowa 17\, Szeligi \n\nJakie są rezultaty? \nSesja pozwala doświadczyć: \n— na poziomie fizycznym: \n– poprawy zdrowia i nastroju\, jakości snu i metabolizmu \n– uruchomienia procesów regeneracyjnych w tkankach \n– detoksykacji organizmu \n– udrożnienia obiegu energetycznego \n– regulacji pracy narządów wewnętrznych \n— na poziomie mentalnym: \n– uwolnienia od stresu\, napięć i problemów \n– oczyszczenia emocji \n— na poziomie duchowym: \n– niezwykłych wrażeń muzycznych \n– podniesienia samoświadomości \nChcesz się zapisać na sesję lub wziąć udział w wydarzeniu otwartym? Wypełnij poniższy formularz – wybierz odpowiednią datę. Otrzymasz wiadomość e-mail z potwierdzeniem rezerwacji. Zapraszam!\n[booking nummonths=4 options='{calendar months_num_in_row=4 width=100% cell_height=30px}’]
URL:https://pokojciala.pl/gram/weekendowe-wibracje-w-ogrodzie/
LOCATION:Szeligi\, ul. Wierzbowa 17\, Wierzbowa 17\, Szeligi\, Poland
CATEGORIES:bezpłatne,niedziela,otwarte,przestrzeń jogi,wieczór,wymiana
ORGANIZER;CN="Pok%C3%B3j Cia%C5%82a Asia Romaniuk":MAILTO:poznaj@pokojciala.pl
END:VEVENT
END:VCALENDAR