BEGIN:VCALENDAR
VERSION:2.0
PRODID:-//Pokój Ciała - ECPv6.15.20//NONSGML v1.0//EN
CALSCALE:GREGORIAN
METHOD:PUBLISH
X-ORIGINAL-URL:https://pokojciala.pl
X-WR-CALDESC:Wydarzenia dla Pokój Ciała
REFRESH-INTERVAL;VALUE=DURATION:PT1H
X-Robots-Tag:noindex
X-PUBLISHED-TTL:PT1H
BEGIN:VTIMEZONE
TZID:Europe/Warsaw
BEGIN:DAYLIGHT
TZOFFSETFROM:+0100
TZOFFSETTO:+0200
TZNAME:CEST
DTSTART:20200329T010000
END:DAYLIGHT
BEGIN:STANDARD
TZOFFSETFROM:+0200
TZOFFSETTO:+0100
TZNAME:CET
DTSTART:20201025T010000
END:STANDARD
BEGIN:DAYLIGHT
TZOFFSETFROM:+0100
TZOFFSETTO:+0200
TZNAME:CEST
DTSTART:20210328T010000
END:DAYLIGHT
BEGIN:STANDARD
TZOFFSETFROM:+0200
TZOFFSETTO:+0100
TZNAME:CET
DTSTART:20211031T010000
END:STANDARD
BEGIN:DAYLIGHT
TZOFFSETFROM:+0100
TZOFFSETTO:+0200
TZNAME:CEST
DTSTART:20220327T010000
END:DAYLIGHT
BEGIN:STANDARD
TZOFFSETFROM:+0200
TZOFFSETTO:+0100
TZNAME:CET
DTSTART:20221030T010000
END:STANDARD
END:VTIMEZONE
BEGIN:VEVENT
DTSTART;TZID=Europe/Warsaw:20210829T103000
DTEND;TZID=Europe/Warsaw:20210829T120000
DTSTAMP:20260419T155304
CREATED:20210829T063000Z
LAST-MODIFIED:20210824T051759Z
UID:1390-1630233000-1630238400@pokojciala.pl
SUMMARY:misy i gongi z mocą
DESCRIPTION:W niedzielny ranek w cichym jeszcze mieście\, zanurzymy się na półtorej godziny w MOCNEJ wibracji organicznego dźwięku mis i gongów\, by odkrywać jego złożoność i szerokość zakresów\, oczyszczenie mentalne\, pojawianie się obrazów i przepływ wizji\, zapadanie w sen\, kontakt z intuicją\, głębokie rozluźnienie i doświadczanie czystego bycia w tu i teraz.\nMOCNO wybrzmi pięć relaksacyjnych mis himalajskich i pięć terapeutycznych oraz dwa gongi\, tam-tam i fen.\n\nINTENSYWNA sesja będzie dla każdego\, kto potrzebuje MOCNEGO brzmienia gongów – bez względu na stan zdrowia\, kondycję fizyczną czy zaawansowanie; nie ma przeciwwskazań – poza sugestią zachowania ostrożności w przypadku niedociśnienia\, ciąży\, zakrzepicy\, wszczepionego rozrusznika serca\, psychozy.\n\nWarto zadbać o otwarty nastrój i dobrze nawodnić organizm\, aby ułatwić falom dźwiękowym i wibracjom przepływ przez tkanki.\nDobrze mieć wygodne ubranie odpowiednio dobrane do temperatury otoczenia.\nWarto wziąć matę\, koc\, materacyk\, można poduszkę.\nSugestia wcześniejszego przyjścia – na otwarcie furtki o 10.20 \nWarto potwierdzić udział pod numerem telefonu 691 440 903 lub przyjmij@pokojciala.pl\n\nZ wdzięcznością docenię wymianę\, stąd sugestia zasilenia słoiczka zgodnie z możliwościami i w otwartości: 20-50 zł\n \nBlik też będzie ok 😉\n\n\nChcesz się zapisać na sesję lub wziąć udział w wydarzeniu otwartym? Wypełnij poniższy formularz – wybierz odpowiednią datę. Otrzymasz wiadomość e-mail z potwierdzeniem rezerwacji. Zapraszam!\n[booking nummonths=4 options='{calendar months_num_in_row=4 width=100% cell_height=30px}’]
URL:https://pokojciala.pl/gram/misy-i-gongi-z-moca/
LOCATION:Aktywny Dom Alternatywny ADA\, Puławska 37\, Warszawa\, Poland
CATEGORIES:bezpłatne,niedziela,otwarte,rano,Warszawa,wymiana
ORGANIZER;CN="Pok%C3%B3j Cia%C5%82a Asia Romaniuk":MAILTO:poznaj@pokojciala.pl
END:VEVENT
END:VCALENDAR